BEGIN:VCALENDAR
VERSION:2.0
PRODID:-//Elmwood Park Chamber of Commerce | Local Business Support - ECPv6.14.2//NONSGML v1.0//EN
CALSCALE:GREGORIAN
METHOD:PUBLISH
X-ORIGINAL-URL:https://www.elmwoodparkchamber.org
X-WR-CALDESC:Events for Elmwood Park Chamber of Commerce | Local Business Support
REFRESH-INTERVAL;VALUE=DURATION:PT1H
X-Robots-Tag:noindex
X-PUBLISHED-TTL:PT1H
BEGIN:VTIMEZONE
TZID:UTC
BEGIN:STANDARD
TZOFFSETFROM:+0000
TZOFFSETTO:+0000
TZNAME:UTC
DTSTART:20260101T000000
END:STANDARD
END:VTIMEZONE
BEGIN:VEVENT
DTSTART;TZID=UTC:20261117T180000
DTEND;TZID=UTC:20261117T200000
DTSTAMP:20260422T005336
CREATED:20260414T052407Z
LAST-MODIFIED:20260414T052407Z
UID:1053-1794938400-1794945600@www.elmwoodparkchamber.org
SUMMARY:Regular Meeting
DESCRIPTION:Regular Meeting at Mun. Community Room
URL:https://www.elmwoodparkchamber.org/event/regular-meeting-6/
LOCATION:Mun. Community Room\, 182 Market Street
ATTACH;FMTTYPE=image/jpeg:https://www.elmwoodparkchamber.org/wp-content/uploads/2026/04/businesswoman-addressing-colleagues-at-table-elev-2026-01-05-06-34-00-utc.jpg
END:VEVENT
BEGIN:VEVENT
DTSTART;TZID=UTC:20261128T180000
DTEND;TZID=UTC:20261128T200000
DTSTAMP:20260422T005336
CREATED:20260415T102550Z
LAST-MODIFIED:20260415T102550Z
UID:1055-1795888800-1795896000@www.elmwoodparkchamber.org
SUMMARY:Small Business Saturday
DESCRIPTION:
URL:https://www.elmwoodparkchamber.org/event/small-business-saturday/
ATTACH;FMTTYPE=image/jpeg:https://www.elmwoodparkchamber.org/wp-content/uploads/2026/04/Small-Business-Saturday-1.jpg
END:VEVENT
END:VCALENDAR