BEGIN:VCALENDAR
VERSION:2.0
PRODID:-//Elmwood Park Chamber of Commerce | Local Business Support - ECPv6.14.2//NONSGML v1.0//EN
CALSCALE:GREGORIAN
METHOD:PUBLISH
X-ORIGINAL-URL:https://www.elmwoodparkchamber.org
X-WR-CALDESC:Events for Elmwood Park Chamber of Commerce | Local Business Support
REFRESH-INTERVAL;VALUE=DURATION:PT1H
X-Robots-Tag:noindex
X-PUBLISHED-TTL:PT1H
BEGIN:VTIMEZONE
TZID:UTC
BEGIN:STANDARD
TZOFFSETFROM:+0000
TZOFFSETTO:+0000
TZNAME:UTC
DTSTART:20260101T000000
END:STANDARD
END:VTIMEZONE
BEGIN:VEVENT
DTSTART;VALUE=DATE:20260906
DTEND;VALUE=DATE:20260907
DTSTAMP:20260421T215326
CREATED:20260415T102550Z
LAST-MODIFIED:20260415T102550Z
UID:1043-1788652800-1788739199@www.elmwoodparkchamber.org
SUMMARY:Car Show
DESCRIPTION:Conjunction with the EPPD Community Police Division.
URL:https://www.elmwoodparkchamber.org/event/car-show/
ATTACH;FMTTYPE=image/jpeg:https://www.elmwoodparkchamber.org/wp-content/uploads/2026/04/Car-Show.jpg
END:VEVENT
BEGIN:VEVENT
DTSTART;TZID=UTC:20260915T180000
DTEND;TZID=UTC:20260915T200000
DTSTAMP:20260421T215326
CREATED:20260414T041203Z
LAST-MODIFIED:20260414T052022Z
UID:1048-1789495200-1789502400@www.elmwoodparkchamber.org
SUMMARY:Regular Meeting
DESCRIPTION:Regular Meeting at Mun. Community Room
URL:https://www.elmwoodparkchamber.org/event/regular-meeting-4/
LOCATION:Mun. Community Room\, 182 Market Street
ATTACH;FMTTYPE=image/jpeg:https://www.elmwoodparkchamber.org/wp-content/uploads/2026/04/businesswoman-addressing-colleagues-at-table-elev-2026-01-05-06-34-00-utc.jpg
END:VEVENT
END:VCALENDAR