BEGIN:VCALENDAR
VERSION:2.0
PRODID:-//Elmwood Park Chamber of Commerce | Local Business Support - ECPv6.14.2//NONSGML v1.0//EN
CALSCALE:GREGORIAN
METHOD:PUBLISH
X-ORIGINAL-URL:https://www.elmwoodparkchamber.org
X-WR-CALDESC:Events for Elmwood Park Chamber of Commerce | Local Business Support
REFRESH-INTERVAL;VALUE=DURATION:PT1H
X-Robots-Tag:noindex
X-PUBLISHED-TTL:PT1H
BEGIN:VTIMEZONE
TZID:UTC
BEGIN:STANDARD
TZOFFSETFROM:+0000
TZOFFSETTO:+0000
TZNAME:UTC
DTSTART:20260101T000000
END:STANDARD
END:VTIMEZONE
BEGIN:VEVENT
DTSTART;TZID=UTC:20260510T120000
DTEND;TZID=UTC:20260510T150000
DTSTAMP:20260421T165746
CREATED:20260319T213644Z
LAST-MODIFIED:20260325T093453Z
UID:1010-1778414400-1778425200@www.elmwoodparkchamber.org
SUMMARY:Run For Your Mom- 5k/10k
DESCRIPTION:Run For Your Mom- 5k/10k in May Charity Fundraiser \nPartnering with EP Community Police \nClick Here for Ticket
URL:https://www.elmwoodparkchamber.org/event/run-for-your-mom-5k-10k/
LOCATION:Birchwood Drive\, 3 Page St\, Elmwood Par\, NJ\, United States
ATTACH;FMTTYPE=image/jpeg:https://www.elmwoodparkchamber.org/wp-content/uploads/2026/03/2026-Banner.jpg
END:VEVENT
BEGIN:VEVENT
DTSTART;VALUE=DATE:20260516
DTEND;VALUE=DATE:20260517
DTSTAMP:20260421T165746
CREATED:20260319T214914Z
LAST-MODIFIED:20260319T214914Z
UID:1013-1778889600-1778975999@www.elmwoodparkchamber.org
SUMMARY:Job fair
DESCRIPTION:Job fair at the American Legion (Time TBD)
URL:https://www.elmwoodparkchamber.org/event/job-fair/
LOCATION:American Legion
ATTACH;FMTTYPE=image/jpeg:https://www.elmwoodparkchamber.org/wp-content/uploads/2026/03/Job-fair--e1773956938523.jpg
END:VEVENT
BEGIN:VEVENT
DTSTART;TZID=UTC:20260519T180000
DTEND;TZID=UTC:20260519T200000
DTSTAMP:20260421T165746
CREATED:20260320T021326Z
LAST-MODIFIED:20260320T021326Z
UID:1018-1779213600-1779220800@www.elmwoodparkchamber.org
SUMMARY:Regular Meeting
DESCRIPTION:Regular Meeting at Mun. Community Room \nBoard Candidate Presentations **Only Members in Good Standing are eligible to vote or stand for nomination**
URL:https://www.elmwoodparkchamber.org/event/regular-meeting-2/
LOCATION:Mun. Community Room\, 182 Market Street
ATTACH;FMTTYPE=image/jpeg:https://www.elmwoodparkchamber.org/wp-content/uploads/2026/03/Regular-Meeting-may19.jpg
END:VEVENT
END:VCALENDAR