BEGIN:VCALENDAR
VERSION:2.0
PRODID:-//Elmwood Park Chamber of Commerce | Local Business Support - ECPv6.14.2//NONSGML v1.0//EN
CALSCALE:GREGORIAN
METHOD:PUBLISH
X-WR-CALNAME:Elmwood Park Chamber of Commerce | Local Business Support
X-ORIGINAL-URL:https://www.elmwoodparkchamber.org
X-WR-CALDESC:Events for Elmwood Park Chamber of Commerce | Local Business Support
REFRESH-INTERVAL;VALUE=DURATION:PT1H
X-Robots-Tag:noindex
X-PUBLISHED-TTL:PT1H
BEGIN:VTIMEZONE
TZID:UTC
BEGIN:STANDARD
TZOFFSETFROM:+0000
TZOFFSETTO:+0000
TZNAME:UTC
DTSTART:20240101T000000
END:STANDARD
END:VTIMEZONE
BEGIN:VEVENT
DTSTART;TZID=UTC:20260321T180000
DTEND;TZID=UTC:20260321T200000
DTSTAMP:20260421T233300
CREATED:20260319T161924Z
LAST-MODIFIED:20260320T015100Z
UID:1006-1774116000-1774123200@www.elmwoodparkchamber.org
SUMMARY:Regular Meeting
DESCRIPTION:Special Guest: Member Danerys Lazala \nNominations for board vacancies **Only Members in Good Standing are eligible to vote or stand for nomination**
URL:https://www.elmwoodparkchamber.org/event/regular-meeting/
LOCATION:Mun. Community Room\, 182 Market Street
ATTACH;FMTTYPE=image/jpeg:https://www.elmwoodparkchamber.org/wp-content/uploads/2026/03/Regular-Meeting-march21.jpg
END:VEVENT
BEGIN:VEVENT
DTSTART;TZID=UTC:20260321T130000
DTEND;TZID=UTC:20260321T143000
DTSTAMP:20260421T233300
CREATED:20260319T045213Z
LAST-MODIFIED:20260320T025643Z
UID:1002-1774098000-1774103400@www.elmwoodparkchamber.org
SUMMARY:Ribbon Cutting
DESCRIPTION:
URL:https://www.elmwoodparkchamber.org/event/ribbon-cutting/
LOCATION:Coffee Garden and Rapid Multi Service
ATTACH;FMTTYPE=image/jpeg:https://www.elmwoodparkchamber.org/wp-content/uploads/2026/03/Ribbon-Cutting.jpg
END:VEVENT
BEGIN:VEVENT
DTSTART;TZID=UTC:20260317T173000
DTEND;TZID=UTC:20260317T200000
DTSTAMP:20260421T233300
CREATED:20260319T035413Z
LAST-MODIFIED:20260319T035413Z
UID:998-1773768600-1773777600@www.elmwoodparkchamber.org
SUMMARY:Regular Meeting at Spencer Bank
DESCRIPTION:
URL:https://www.elmwoodparkchamber.org/event/regular-meeting-at-spencer-bank/
LOCATION:Spencer Bank
END:VEVENT
BEGIN:VEVENT
DTSTART;TZID=UTC:20260222T203000
DTEND;TZID=UTC:20260222T230000
DTSTAMP:20260421T233300
CREATED:20260122T043851Z
LAST-MODIFIED:20260122T044145Z
UID:975-1771792200-1771801200@www.elmwoodparkchamber.org
SUMMARY:LAUGHS FOR LOVE
DESCRIPTION:Valentine’s Comedy Night Fundraiser  \nFeaturing Comedian JOE POLIZZOTTI \nSunday\, February 22 \nSeating: 8:30 PM (First Come\, First Served) \nShowtime: 9:00 PM – 11:00 PM \nTickets: $40 per person \nBUY TICKET NOW \nAdvance Tickets Only. No Sales at the Door
URL:https://www.elmwoodparkchamber.org/event/laughs-for-love/
LOCATION:BLVD Bar & Grill\, 401 Mola Blvd\, Elmwood Park\, NJ\, 07407\, United States
CATEGORIES:Event Community
ATTACH;FMTTYPE=image/jpeg:https://www.elmwoodparkchamber.org/wp-content/uploads/2026/01/thumb696db194744c4.jpg
END:VEVENT
BEGIN:VEVENT
DTSTART;TZID=UTC:20251217T180000
DTEND;TZID=UTC:20251217T210000
DTSTAMP:20260421T233300
CREATED:20251209T054810Z
LAST-MODIFIED:20251210T004758Z
UID:962-1765994400-1766005200@www.elmwoodparkchamber.org
SUMMARY:ELMWOOD PARK HOLIDAY PARTY 2025
DESCRIPTION:   ELMWOOD PARK HOLIDAY PARTY 2025   \nYou’re invited to a festive night of community\, joy\, and holiday cheer! \n Wednesday\, December 17\, 2025\n 6:00 PM\n Hook & Reel Cajun Seafood and Bar\n100 Broadway\, Suite 13\, Elmwood Park\, NJ 07407 \n Advanced Tickets On Sale Now\n Adults 13+: $30\n Kids 4–12: $10\n Children 3 and under: FREE \n Tickets at the Door\nAdults: $35 • Kids: $15 \n Enjoy a full night of holiday fun!\n Music\n Food\n Soft Drinks\n Cash Bar\n Karaoke\n Crafts\n Face Painting Tattoos\n Santa & Elf Pictures \nScan the QR code on the flyer to purchase your tickets! \nHosted by:\n Elmwood Park Chamber of Commerce\n Elmwood Park\, NJ Latinos Association \nLet’s celebrate together and make this holiday season unforgettable! 
URL:https://www.elmwoodparkchamber.org/event/elmwood-park-holiday-party-2025/
LOCATION:Hook & Reel Cajun Seafood and Bar\, 100 Broadway\, Suite 13\, Elmwood Park\, NJ\, 07407\, United States
ATTACH;FMTTYPE=image/jpeg:https://www.elmwoodparkchamber.org/wp-content/uploads/2025/12/Holiday-Party-2025-Chamber-EPLA.jpg
END:VEVENT
BEGIN:VEVENT
DTSTART;TZID=UTC:20250819T180000
DTEND;TZID=UTC:20250819T220000
DTSTAMP:20260421T233300
CREATED:20250814T023111Z
LAST-MODIFIED:20250819T163948Z
UID:929-1755626400-1755640800@www.elmwoodparkchamber.org
SUMMARY:Elmwood Park Chamber of Commerce 1 Year Anniversary Party
DESCRIPTION:🎉 Let’s Celebrate Together! 🎉Join us as we mark the 1-Year Anniversary of the Elmwood Park Chamber of Commerce on October 1st\, 2025. \nCome and be part of our journey toward an even brighter future! \n📍 Location: 6 Veterans Place\, Elmwood Park\, NJ📅 Date: October 1\, 2025 \nFor more info click here
URL:https://www.elmwoodparkchamber.org/event/elmwood-park-chamber-of-commerce-1-year-anniversary-party/
LOCATION:Elmwood Park NJ\, NJ\, United States
ATTACH;FMTTYPE=image/jpeg:https://www.elmwoodparkchamber.org/wp-content/uploads/2025/08/Elmwood-Park-Chamber-Anniversary-Celebration.jpg
END:VEVENT
BEGIN:VEVENT
DTSTART;TZID=UTC:20250617T173000
DTEND;TZID=UTC:20250617T200000
DTSTAMP:20260421T233300
CREATED:20260415T102551Z
LAST-MODIFIED:20260415T102551Z
UID:891-1750181400-1750190400@www.elmwoodparkchamber.org
SUMMARY:Best Pizza in Town Contest
DESCRIPTION:The “Voted Best Pizza in Town” contest is a highly anticipated community event celebrating the best local pizzerias in Elmwood Park\, while raising funds to support the Resident’s Assistance Program (RAP) and the Elmwood Park Chamber of Commerce (NEPCC). Local pizzerias will compete in various categories for the coveted “Best Pizza in Town” title\, while helping raise funds to support both the food pantry and the Chamber of Commerce. \nEvent Details: \nDate: Tuesday June 17th\, 2025\nLocation: TBD\nTime: 5:30-8:00pm\nEntry Fee for Pizzerias: $50 per pizzeria\, $25 for locally addressed establishments\nGeneral Admission: $10 (includes 5 each of People’s choice and tasting tickets)\nAdditional Tasting Tickets: $2 each (each ticket allows the purchase of a slice from any participating pizzeria)\n50/50 Raffle: Tickets available for purchase at the event \nDownload Registration Form
URL:https://www.elmwoodparkchamber.org/event/best-pizza-in-town-contest/
CATEGORIES:Event Community
ATTACH;FMTTYPE=image/webp:https://www.elmwoodparkchamber.org/wp-content/uploads/2025/03/thumb67ddf07979bc9.webp
END:VEVENT
BEGIN:VEVENT
DTSTART;TZID=UTC:20250518T120000
DTEND;TZID=UTC:20250518T140000
DTSTAMP:20260421T233300
CREATED:20250326T052608Z
LAST-MODIFIED:20250427T120816Z
UID:884-1747569600-1747576800@www.elmwoodparkchamber.org
SUMMARY:5k and 1 Mile Strut for Charity
DESCRIPTION:Event starts and ends behind St. Leo’s Church near the corner of Tuella and Hillman. \nThis event is sponsored by the New Elmwood Park Chamber of Commerce and raising funds for both the Chamber and local Cancer Research Charity. This is a volunteer lead event not affiliated with any officially sanctioned sporting agency. \nREGISTER ONLINE: https://allevents.in/elmwood%20park/5k-and-1-mile-strut-for-charity/80003129159075?ref=smdl \nEvent Name: Elmwood Park 5K & 1Mile Stride for Charity \nDate: Sunday May 18 2025 \nTime: High Noon 12pm (Rain or Shine no alternate) \nLocation: Elmwood Park NJ (Pre-determined route). Beginning and Ending behind St. Leo’s \nKeystone Sponsor: TBD \nTertiary Sponsor: A.P. Interactive – Providing Shirts & Marketing \nProceeds Benefiting: NEPCC and \nEVENT RULES & GUIDELINES \n5K Race Guidelines: \n\nEligibility: Open to all participants aged 10 and above. Minors require parental/guardian consent.\nRegistration: Participants must pre-register online or on-site before the race. Limited on-site registration may be available. Those running as a team or group must still provide registration forms for each individual participant\nRace Timing: This is not a Sport sanctioned or official race affiliated with any other organization. Timing provided by volunteers.\nCourse Rules:\n\n\nRunners must stay on the designated route.\nHeadphones are permitted but must not interfere with awareness.\nNo bicycles rollerblades or motorized vehicles allowed.\n\n\nAwards: Top finishers in multiple age brackets and overall winners will be awarded.\n\n1-Mile Walk/Strut Guidelines: \n\nEligibility: Open to all ages and fitness levels including families and pets.\nPet Policy:\n\n\nDogs must be leashed at all times.\nOwners are responsible for cleaning up after their pets.\n\n\nCourse Rules: Walkers must stay on the designated route and be mindful of runners.\nTheme Encouraged: Participants are welcome to dress up or strut in a fun festive manner.\n\nREGISTER ONLINE: https://allevents.in/elmwood%20park/5k-and-1-mile-strut-for-charity/80003129159075?ref=smdl \nSPONSORSHIP & FUNDRAISING OPPORTUNITIES \nConfirmed Sponsors: \n\nA.P. Interactive: Providing event shirts and marketing.\n\nSeeking Additional Sponsors For: \n\nFinish Line & Awards Ceremony\nRefreshments & Water Stations\nWalk/Strut Route Sponsorship\nVolunteer Coordination & Support\n\nFundraising: \n\nCorporate & local business sponsorships available.\nPersonal fundraising encouraged via pledges & donation pages.\nA portion of proceeds to benefit NEPCC TBD cancer research charity.\n\nDOWNLOAD REGISTRATION FORM- Send to elmwoodparkchambers@gmail.com \nOR \nREGISTER ONLINE: https://allevents.in/elmwood%20park/5k-and-1-mile-strut-for-charity/80003129159075?ref=smdl \n 
URL:https://www.elmwoodparkchamber.org/event/5k-and-1-mile-strut-for-charity/
LOCATION:Elmwood Park NJ\, NJ\, United States
CATEGORIES:Event Community
ATTACH;FMTTYPE=image/jpeg:https://www.elmwoodparkchamber.org/wp-content/uploads/2025/03/ChatGPT-Image-Apr-24-2025-02_31_21-PM.jpg
END:VEVENT
BEGIN:VEVENT
DTSTART;TZID=UTC:20241217T183000
DTEND;TZID=UTC:20241217T210000
DTSTAMP:20260421T233300
CREATED:20241210T100501Z
LAST-MODIFIED:20251209T024116Z
UID:852-1734460200-1734469200@www.elmwoodparkchamber.org
SUMMARY:Elmwood Park Chamber's Holiday Party
DESCRIPTION:Celebrate the Holidays with Elmwood Park Chamber \n\nDate\, Time: 17 Desember\, 6.30 PM\nLocation: “The Hook and Reel” 100 Broadway\, Elmwood Park\nTicket: FREE
URL:https://www.elmwoodparkchamber.org/event/elmwood-park-chambers-holiday-party/
LOCATION:VFW\, VFW\, 6 Veterans Place\, Elmwood Park\, Elmwood Park\, 07407\, United States
ATTACH;FMTTYPE=image/jpeg:https://www.elmwoodparkchamber.org/wp-content/uploads/2024/12/Banner-Holiday-Party-21.jpg
END:VEVENT
BEGIN:VEVENT
DTSTART;TZID=UTC:20241027T120000
DTEND;TZID=UTC:20241027T160000
DTSTAMP:20260421T233300
CREATED:20241026T022005Z
LAST-MODIFIED:20241026T022005Z
UID:804-1730030400-1730044800@www.elmwoodparkchamber.org
SUMMARY:Falling for Our Fallen
DESCRIPTION:Falling for Our Fallen \n\nDate: Sunday\, October 27th\nTime: 12:00 PM – 4:00 PM\nLocation: VFW Post 281\, 6 Veterans Place\, Elmwood Park\, NJ\n\nEvent Enjoy: \n\nCrafts\nMusic by DJ Razer\nFull Bar\nFood\nRaffles and Giveaways\nPool and Darts\nCigar Lounge\n\nFalling for Our Fallen is accepting donations 100% of the proceeds will go to the VFW Post 281 \nDonations can be made via Zelle using the following email:\nvfwpost281@aol.com \n \nContact Information for Vendors/Sponsorships:\nEmail: catchthesehandsllc.nj@gmail.com \nNote: Family-friendly
URL:https://www.elmwoodparkchamber.org/event/falling-for-our-fallen/
CATEGORIES:Event Community
ATTACH;FMTTYPE=image/jpeg:https://www.elmwoodparkchamber.org/wp-content/uploads/2024/10/image0.jpg
END:VEVENT
BEGIN:VEVENT
DTSTART;TZID=UTC:20241023T190000
DTEND;TZID=UTC:20241023T210000
DTSTAMP:20260421T233300
CREATED:20241017T070805Z
LAST-MODIFIED:20241017T070805Z
UID:774-1729710000-1729717200@www.elmwoodparkchamber.org
SUMMARY:Workshop on Fraud Prevention
DESCRIPTION:Workshop on Fraud Prevention \nWednesday\, October 23rd \n7:00 PM \nElmwood Park Senior Center
URL:https://www.elmwoodparkchamber.org/event/workshop-on-fraud-prevention/
LOCATION:Elmwood Park Senior Center
CATEGORIES:Event Community
ATTACH;FMTTYPE=image/png:https://www.elmwoodparkchamber.org/wp-content/uploads/2024/10/elmwood_logo-01.png
END:VEVENT
BEGIN:VEVENT
DTSTART;TZID=UTC:20241020T100000
DTEND;TZID=UTC:20241020T160000
DTSTAMP:20260421T233300
CREATED:20241011T015522Z
LAST-MODIFIED:20241011T020059Z
UID:725-1729418400-1729440000@www.elmwoodparkchamber.org
SUMMARY:Spirit of a Woman Psychic Faire & Community Day
DESCRIPTION:Spirit of a Woman Psychic Faire & Community Day\nBreast Cancer Awareness Month \nSunday\, October 20th\n10:00 AM – 4:00 PM\nBorough Field\, Mola Blvd & Market St\, Elmwood Park\, NJ \n\nZumba Fitness\nDrum Circle\nPsychic Mediums\nEnergy Healers\nCrystals\, Candles & Scents\nSkincare & Makeup\nWitchy Supplies & Henna Tattoos\nFood\, Raffles\, Live Music by Project 63\, and More!\n\nAll donations are accepted and appreciated.\nProceeds will benefit the Fitness Angels 501(c)(3). \nFor vendor inquiries\, contact:\nhollye@warriorgoddessfit.com
URL:https://www.elmwoodparkchamber.org/event/spirit-of-a-woman-psychic-faire-community-day/
LOCATION:Borough Field\, Mola Blvd & Market St\, Elmwood Park\, NJ
CATEGORIES:Event Community
ATTACH;FMTTYPE=image/jpeg:https://www.elmwoodparkchamber.org/wp-content/uploads/2024/10/SOW-Flyer.jpg
END:VEVENT
BEGIN:VEVENT
DTSTART;TZID=UTC:20241019T110000
DTEND;TZID=UTC:20241019T130000
DTSTAMP:20260421T233300
CREATED:20241017T071104Z
LAST-MODIFIED:20241017T071623Z
UID:780-1729335600-1729342800@www.elmwoodparkchamber.org
SUMMARY:Vietnam War Memorial Unveiling
DESCRIPTION:Vietnam War Memorial Unveiling \nSaturday\, October 19th \n11 AM \nGuest speaker: Mayor of Fair Lawn \nCorner of Mola Blvd and Van Riper Avenue
URL:https://www.elmwoodparkchamber.org/event/vietnam-war-memorial-unveiling/
LOCATION:Corner of Mola Blvd and Van Riper Avenue
CATEGORIES:Event Community
ATTACH;FMTTYPE=image/png:https://www.elmwoodparkchamber.org/wp-content/uploads/2024/10/elmwood_logo-01.png
END:VEVENT
BEGIN:VEVENT
DTSTART;TZID=UTC:20240928T140000
DTEND;TZID=UTC:20240928T160000
DTSTAMP:20260421T233300
CREATED:20241011T014346Z
LAST-MODIFIED:20241011T014346Z
UID:720-1727532000-1727539200@www.elmwoodparkchamber.org
SUMMARY:Stomp Out Hunger Event
DESCRIPTION:STOMP OUT HUNGER EVENT\nSponsored by the Residents Assistance Program \nTHE PEOPLE’S PANTRY\nin collaboration with\nThe New Elmwood Park Chamber of Commerce \nSATURDAY\, SEPTEMBER 28\, 2024 – 2:00 PM\nLocation: The Corner of Lincoln Avenue and Mola Blvd. \n“Together We Will March to Fight Hunger in Our Elmwood Park Community” \nDonations of the following items would be greatly appreciated: \nPeanut Butter Pasta – Juice – Tuna – Cereal – Honey – Rice \nFor any questions\, please call: 201-796-1457\nAngela Fava @ ext. 2015\nDeon Yorke @ ext. 2013
URL:https://www.elmwoodparkchamber.org/event/stomp-out-hunger-event/
LOCATION:The Corner of Lincoln Avenue and Mola Blvd
CATEGORIES:Event Community
ATTACH;FMTTYPE=image/jpeg:https://www.elmwoodparkchamber.org/wp-content/uploads/2024/10/461090617_511670741482695_8513063265238629412_n.jpg
END:VEVENT
END:VCALENDAR