BEGIN:VCALENDAR
VERSION:2.0
PRODID:-//Elmwood Park Chamber of Commerce | Local Business Support - ECPv6.14.2//NONSGML v1.0//EN
CALSCALE:GREGORIAN
METHOD:PUBLISH
X-ORIGINAL-URL:https://www.elmwoodparkchamber.org
X-WR-CALDESC:Events for Elmwood Park Chamber of Commerce | Local Business Support
REFRESH-INTERVAL;VALUE=DURATION:PT1H
X-Robots-Tag:noindex
X-PUBLISHED-TTL:PT1H
BEGIN:VTIMEZONE
TZID:UTC
BEGIN:STANDARD
TZOFFSETFROM:+0000
TZOFFSETTO:+0000
TZNAME:UTC
DTSTART:20260101T000000
END:STANDARD
END:VTIMEZONE
BEGIN:VEVENT
DTSTART;TZID=UTC:20260801T080000
DTEND;TZID=UTC:20260801T170000
DTSTAMP:20260421T200010
CREATED:20260415T102551Z
LAST-MODIFIED:20260415T102551Z
UID:1027-1785571200-1785603600@www.elmwoodparkchamber.org
SUMMARY:Summer Recess
DESCRIPTION:Summer Recess- No Meeting- Enjoy Concert Series
URL:https://www.elmwoodparkchamber.org/event/summer-recess/
ATTACH;FMTTYPE=image/jpeg:https://www.elmwoodparkchamber.org/wp-content/uploads/2026/03/Summer-Recess.jpg
END:VEVENT
END:VCALENDAR