BEGIN:VCALENDAR
VERSION:2.0
PRODID:-//Elmwood Park Chamber of Commerce | Local Business Support - ECPv6.14.2//NONSGML v1.0//EN
CALSCALE:GREGORIAN
METHOD:PUBLISH
X-WR-CALNAME:Elmwood Park Chamber of Commerce | Local Business Support
X-ORIGINAL-URL:https://www.elmwoodparkchamber.org
X-WR-CALDESC:Events for Elmwood Park Chamber of Commerce | Local Business Support
REFRESH-INTERVAL;VALUE=DURATION:PT1H
X-Robots-Tag:noindex
X-PUBLISHED-TTL:PT1H
BEGIN:VTIMEZONE
TZID:UTC
BEGIN:STANDARD
TZOFFSETFROM:+0000
TZOFFSETTO:+0000
TZNAME:UTC
DTSTART:20260101T000000
END:STANDARD
END:VTIMEZONE
BEGIN:VEVENT
DTSTART;TZID=UTC:20260416T180000
DTEND;TZID=UTC:20260416T200000
DTSTAMP:20260421T151739
CREATED:20260320T045334Z
LAST-MODIFIED:20260320T060746Z
UID:1022-1776362400-1776369600@www.elmwoodparkchamber.org
SUMMARY:Regular Meeting
DESCRIPTION:Regular Meeting at Mun. Community Room \nElection of Vacant Board Positions **Only Members in Good Standing are eligible to vote or assume positions**
URL:https://www.elmwoodparkchamber.org/event/regular-meeting-3/
LOCATION:Coffee Garden and Rapid Multi Service
ATTACH;FMTTYPE=image/jpeg:https://www.elmwoodparkchamber.org/wp-content/uploads/2026/03/Regular-Meeting-16-Juny.jpg
END:VEVENT
END:VCALENDAR